BEGIN:VCALENDAR
PRODID:-//github.com/rianjs/ical.net//NONSGML ical.net 4.0//EN
VERSION:2.0
BEGIN:VTIMEZONE
TZID:Eastern Standard Time
X-LIC-LOCATION:America/New_York
BEGIN:STANDARD
DTSTART:20241103T020000
RRULE:FREQ=YEARLY;BYDAY=1SU;BYMONTH=11
TZNAME:EST
TZOFFSETFROM:-0400
TZOFFSETTO:-0500
END:STANDARD
BEGIN:DAYLIGHT
DTSTART:20250309T020000
RRULE:FREQ=YEARLY;BYDAY=2SU;BYMONTH=3
TZNAME:EDT
TZOFFSETFROM:-0500
TZOFFSETTO:-0400
END:DAYLIGHT
END:VTIMEZONE
BEGIN:VEVENT
DTEND;TZID=Eastern Standard Time:20261009T235900
DTSTAMP:20260421T040347Z
DTSTART;TZID=Eastern Standard Time:20261008T073000
LOCATION:Soaring Eagle Casino & Resort 6800 Soaring Eagle Boulevard Mount 
 Pleasant\, MI 48858 United States
ORGANIZER;CN=;SENT-BY="mailto:":
SEQUENCE:0
SUMMARY:PMAM: 2026 GLAStar Education Conference & Awards Gala
UID:3b551b6d-f892-4ade-884c-8ad6d30e1700
END:VEVENT
END:VCALENDAR
